BEGIN:VCALENDAR
VERSION:2.0
PRODID:-// - ECPv5.0.3.1//NONSGML v1.0//EN
CALSCALE:GREGORIAN
METHOD:PUBLISH
X-ORIGINAL-URL:https://naimahdances.com
X-WR-CALDESC:Events for 
BEGIN:VTIMEZONE
TZID:UTC
BEGIN:STANDARD
TZOFFSETFROM:+0000
TZOFFSETTO:+0000
TZNAME:UTC
DTSTART:20220101T000000
END:STANDARD
END:VTIMEZONE
BEGIN:VEVENT
DTSTART;TZID=UTC:20220722T190000
DTEND;TZID=UTC:20220722T210000
DTSTAMP:20260422T085651
CREATED:20220513T005009Z
LAST-MODIFIED:20220513T005009Z
UID:853-1658516400-1658523600@naimahdances.com
SUMMARY:Superstars of Sword
DESCRIPTION:An Extravaganza of sword performers from around the world! More info coming soon. \n
URL:https://naimahdances.com/events/superstars-of-sword/
LOCATION:Online
END:VEVENT
END:VCALENDAR